BEGIN:VCALENDAR
VERSION:2.0
PRODID:-//adjololo - ECPv6.15.20//NONSGML v1.0//EN
CALSCALE:GREGORIAN
METHOD:PUBLISH
X-WR-CALNAME:adjololo
X-ORIGINAL-URL:https://adjololo.com
X-WR-CALDESC:Évènements pour adjololo
REFRESH-INTERVAL;VALUE=DURATION:PT1H
X-Robots-Tag:noindex
X-PUBLISHED-TTL:PT1H
BEGIN:VTIMEZONE
TZID:Europe/Paris
BEGIN:DAYLIGHT
TZOFFSETFROM:+0100
TZOFFSETTO:+0200
TZNAME:CEST
DTSTART:20170326T010000
END:DAYLIGHT
BEGIN:STANDARD
TZOFFSETFROM:+0200
TZOFFSETTO:+0100
TZNAME:CET
DTSTART:20171029T010000
END:STANDARD
BEGIN:DAYLIGHT
TZOFFSETFROM:+0100
TZOFFSETTO:+0200
TZNAME:CEST
DTSTART:20180325T010000
END:DAYLIGHT
BEGIN:STANDARD
TZOFFSETFROM:+0200
TZOFFSETTO:+0100
TZNAME:CET
DTSTART:20181028T010000
END:STANDARD
BEGIN:DAYLIGHT
TZOFFSETFROM:+0100
TZOFFSETTO:+0200
TZNAME:CEST
DTSTART:20190331T010000
END:DAYLIGHT
BEGIN:STANDARD
TZOFFSETFROM:+0200
TZOFFSETTO:+0100
TZNAME:CET
DTSTART:20191027T010000
END:STANDARD
END:VTIMEZONE
BEGIN:VEVENT
DTSTART;TZID=Europe/Paris:20180706T193000
DTEND;TZID=Europe/Paris:20180707T020000
DTSTAMP:20260421T143515
CREATED:20180409T155322Z
LAST-MODIFIED:20180409T155322Z
UID:2376-1530905400-1530928800@adjololo.com
SUMMARY:FESTIVAL "ADJOLOLO FETE L'ETE"
DESCRIPTION:
URL:https://adjololo.com/event/festival-adjololo-fete-lete/
LOCATION:STUDIO ADJOLOLO\, Les Fromentinières\, FREIGNE\, 49440\, France
ORGANIZER;CN="Adjololo System":MAILTO:contact@adjololo.com
END:VEVENT
BEGIN:VEVENT
DTSTART;TZID=Europe/Paris:20180324T193000
DTEND;TZID=Europe/Paris:20180324T230000
DTSTAMP:20260421T143515
CREATED:20180324T150047Z
LAST-MODIFIED:20180324T150635Z
UID:2271-1521919800-1521932400@adjololo.com
SUMMARY:« Les Rythmes du monde »
DESCRIPTION:Concert organisé au Piano’cktail de Bouguenais le 24 mars prochain\, au profit des associations d’aide à l’enfance de la Métropole Nantaise. ( AOPA\, IME Le Cenro\, Le Charbon Bleu..) \nCette soirée intitulée « Les Rythmes du Monde » est organisée par l’association Kiwanis pour ses 8ème Printemps de l’Espoir. \nChargée de la réalisation artistique et technique\, Adjololo System s’associe avec le Piano’cktail à cet évènement en proposant 4 artistes de son collectif : \nADAMA KEITA\,  LA RALLONGE\,  BBSOUL\,  RED ONLY. \nBilletterie : Les rythmes du monde – 8ème printemps de l’espoir  \nOu : 06 83 55 26 98
URL:https://adjololo.com/event/les-rythmes-du-monde/
LOCATION:Piano’cktail\, Rue Ginsheim Gustavsburg\, Bouguenais\, 44340\, France
CATEGORIES:concert
END:VEVENT
END:VCALENDAR